BEGIN:VCALENDAR
VERSION:2.0
PRODID:-//Budget Kompetenz - ECPv6.15.20//NONSGML v1.0//EN
CALSCALE:GREGORIAN
METHOD:PUBLISH
X-ORIGINAL-URL:https://budget-kompetenz.de
X-WR-CALDESC:Veranstaltungen für Budget Kompetenz
REFRESH-INTERVAL;VALUE=DURATION:PT1H
X-Robots-Tag:noindex
X-PUBLISHED-TTL:PT1H
BEGIN:VTIMEZONE
TZID:Europe/Berlin
BEGIN:DAYLIGHT
TZOFFSETFROM:+0100
TZOFFSETTO:+0200
TZNAME:CEST
DTSTART:20240331T010000
END:DAYLIGHT
BEGIN:STANDARD
TZOFFSETFROM:+0200
TZOFFSETTO:+0100
TZNAME:CET
DTSTART:20241027T010000
END:STANDARD
BEGIN:DAYLIGHT
TZOFFSETFROM:+0100
TZOFFSETTO:+0200
TZNAME:CEST
DTSTART:20250330T010000
END:DAYLIGHT
BEGIN:STANDARD
TZOFFSETFROM:+0200
TZOFFSETTO:+0100
TZNAME:CET
DTSTART:20251026T010000
END:STANDARD
BEGIN:DAYLIGHT
TZOFFSETFROM:+0100
TZOFFSETTO:+0200
TZNAME:CEST
DTSTART:20260329T010000
END:DAYLIGHT
BEGIN:STANDARD
TZOFFSETFROM:+0200
TZOFFSETTO:+0100
TZNAME:CET
DTSTART:20261025T010000
END:STANDARD
END:VTIMEZONE
BEGIN:VEVENT
DTSTART;TZID=Europe/Berlin:20250912T090000
DTEND;TZID=Europe/Berlin:20250912T150000
DTSTAMP:20260422T115244
CREATED:20250909T104045Z
LAST-MODIFIED:20250909T104045Z
UID:2081-1757667600-1757689200@budget-kompetenz.de
SUMMARY:Fachforum 2025 der Lebenshilfe-Werke Trier
DESCRIPTION:Auf dem Fachforum der Lebenshilfe-Werke Trier kommen Akteur*innen des regionalen Arbeitsmarktes zusammen\, um gemeinsam Ideen\, Lösungen und Partnerschaften zu entwickeln\, die die Teilhabe von Menschen mit Behinderungen am Arbeitsleben verbessern. \nDas Projekt Budgetkompetenz ist auch dabei: Sabrina Keesen und Silke Fuchs vom BBD Neuss werden einen Fachvortrag zu den Budgets für Arbeit und Ausbildung mit einem anschließenden Arbeitskreis halten. Der Eintritt ist frei! \nAchtung: Die Teilnehmer*innenzahl ist begrenzt. Anmeldungen sind noch möglich unter veranstaltungen.lebenshilfe-werke.de \n 
URL:https://budget-kompetenz.de/event/fachforum-2025-der-lebenshilfe-werke-trier/
LOCATION:Lebenshilfe-Werke Trier GmbH\, Diedenhofener Str. 27\, Trier\, Rheinland-Pfalz\, 54294\, Germany
END:VEVENT
END:VCALENDAR