BEGIN:VCALENDAR
VERSION:2.0
PRODID:-//Budget Kompetenz - ECPv6.15.20//NONSGML v1.0//EN
CALSCALE:GREGORIAN
METHOD:PUBLISH
X-ORIGINAL-URL:https://budget-kompetenz.de
X-WR-CALDESC:Veranstaltungen für Budget Kompetenz
REFRESH-INTERVAL;VALUE=DURATION:PT1H
X-Robots-Tag:noindex
X-PUBLISHED-TTL:PT1H
BEGIN:VTIMEZONE
TZID:Europe/Berlin
BEGIN:DAYLIGHT
TZOFFSETFROM:+0100
TZOFFSETTO:+0200
TZNAME:CEST
DTSTART:20240331T010000
END:DAYLIGHT
BEGIN:STANDARD
TZOFFSETFROM:+0200
TZOFFSETTO:+0100
TZNAME:CET
DTSTART:20241027T010000
END:STANDARD
BEGIN:DAYLIGHT
TZOFFSETFROM:+0100
TZOFFSETTO:+0200
TZNAME:CEST
DTSTART:20250330T010000
END:DAYLIGHT
BEGIN:STANDARD
TZOFFSETFROM:+0200
TZOFFSETTO:+0100
TZNAME:CET
DTSTART:20251026T010000
END:STANDARD
BEGIN:DAYLIGHT
TZOFFSETFROM:+0100
TZOFFSETTO:+0200
TZNAME:CEST
DTSTART:20260329T010000
END:DAYLIGHT
BEGIN:STANDARD
TZOFFSETFROM:+0200
TZOFFSETTO:+0100
TZNAME:CET
DTSTART:20261025T010000
END:STANDARD
END:VTIMEZONE
BEGIN:VEVENT
DTSTART;TZID=Europe/Berlin:20250724T190000
DTEND;TZID=Europe/Berlin:20250724T203000
DTSTAMP:20260422T041149
CREATED:20250708T085044Z
LAST-MODIFIED:20250708T085154Z
UID:1937-1753383600-1753389000@budget-kompetenz.de
SUMMARY:Nächstes Treffen des Peer Netzwerkes zum Budeget für Arbeit und Ausbildung
DESCRIPTION:Wir treffen uns  über online über Zoom am 24.7.2025 von 19 – 20.30.  Anmeldungen an kontakt@budget-kompetenz.de. Leichte Sprache – Dolmetschung nach rechtzeitiger Anmeldung möglich.
URL:https://budget-kompetenz.de/event/naechstes-treffen-des-peer-netzwerkes-zum-budeget-fuer-arbeit-und-ausbildung/
END:VEVENT
END:VCALENDAR